BEGIN:VCALENDAR
VERSION:2.0
PRODID:-//Loretta&#039;s In Stitches - ECPv5.0.2//NONSGML v1.0//EN
CALSCALE:GREGORIAN
METHOD:PUBLISH
X-WR-CALNAME:Loretta&#039;s In Stitches
X-ORIGINAL-URL:https://lorettasinstitches.com.au
X-WR-CALDESC:Events for Loretta&#039;s In Stitches
BEGIN:VTIMEZONE
TZID:Australia/Brisbane
BEGIN:STANDARD
TZOFFSETFROM:+1000
TZOFFSETTO:+1000
TZNAME:AEST
DTSTART:20200101T000000
END:STANDARD
END:VTIMEZONE
BEGIN:VEVENT
DTSTART;TZID=Australia/Brisbane:20200229T093000
DTEND;TZID=Australia/Brisbane:20200229T133000
DTSTAMP:20200225T112113
CREATED:20160422T051114Z
LAST-MODIFIED:20200210T032226Z
UID:568-1582968600-1582983000@lorettasinstitches.com.au
SUMMARY:Sewing #101 - Basic Sewing Course Sunshine Coast - February 29th
DESCRIPTION:Basic Sewing Course Sunshine Coast\n6 x consecutive SATURDAYS commencing 29th of February\, from 9.30 am to 1.30 pm. \nAbsolute beginners or rusty sewers will have a BALL (Lucille Ball!!) building your sewing skills and knowledge with Learn to Sew – Basic Sewing Course. The 6 x 4-hour classes will take you step by step through how to operate your sewing machine\, learn different sewing techniques and understand commercial patterns with all the interesting sewing language! \nYou can use one of the supplied sewing machines if you do not own a machine. \nFor full details please see the Sewing #101 – Basic Sewing Course Sunshine Coast page\, and to book\, please call Loretta on 0422 837 256 \n
URL:https://lorettasinstitches.com.au/event/sewing-101-basic-sewing-course-sunshine-coast-4/
LOCATION:Loretta’s in Stitches\, 8 Ventura St\, Sunrise Beach\, QLD\, 4567\, Australia
CATEGORIES:courses
ATTACH;FMTTYPE=image/jpeg:https://lorettasinstitches.com.au/wp-content/uploads/lucy-sewing500.jpg
ORGANIZER;CN="Loretta%20in%20Stitches":MAILTO:info@lorettasinstitches.com.au
END:VEVENT
END:VCALENDAR