BEGIN:VCALENDAR
VERSION:2.0
PRODID:-//Loretta&#039;s In Stitches - ECPv6.15.20//NONSGML v1.0//EN
CALSCALE:GREGORIAN
METHOD:PUBLISH
X-WR-CALNAME:Loretta&#039;s In Stitches
X-ORIGINAL-URL:https://lorettasinstitches.com.au
X-WR-CALDESC:Events for Loretta&#039;s In Stitches
REFRESH-INTERVAL;VALUE=DURATION:PT1H
X-Robots-Tag:noindex
X-PUBLISHED-TTL:PT1H
BEGIN:VTIMEZONE
TZID:Australia/Brisbane
BEGIN:STANDARD
TZOFFSETFROM:+1000
TZOFFSETTO:+1000
TZNAME:AEST
DTSTART:20180101T000000
END:STANDARD
END:VTIMEZONE
BEGIN:VEVENT
DTSTART;TZID=Australia/Brisbane:20190909T100000
DTEND;TZID=Australia/Brisbane:20190909T150000
DTSTAMP:20260425T111534
CREATED:20160920T003839Z
LAST-MODIFIED:20190801T050905Z
UID:610-1568023200-1568041200@lorettasinstitches.com.au
SUMMARY:A-Line Skirt Construction - Sep 9th & 10th
DESCRIPTION:See Full Class Description Here \n2 classes: Monday the 9th\, and Tuesday the 10th of September\, from 9.00am to 3.00pm \nIn this series of two classes\, you will learn how to construct an A-Line Skirt. \nFed up of searching from shop to shop for a basic skirt to fit you\, or finding a skirt that fits but the fabric is unsuitable or poor quality? Well this class is for you. \n\nknow how to adjust the pattern to fit you\nlaying up of your fabric and construction of garment following pattern instruction\nAn invisible zip and facing application\nFrench hem\n\nNot only will you have a well fitting skirt\, you will be able to make the skirt using different fabrics with confidence in the future your adjusted pattern you used in class knowing it is the correct fit for you. \nDURATION: 2 CLASSES in A-Line skirt course 9am – 3pm\nCOST: $195 \nThings we will cover:\n\ntaking of body measurements\ncompare measurements to pattern\ntry on sample skirt to measurement taken\ntrace out pattern size\npattern alterations if required for your own personal fit\nmake calico shell to test alterations if required. Pin fitting skirt if required.\nLay up fabric and cutting out of pattern pieces understanding the sewing language (straight grain\, selvedge\, the fold\, notches etc)\nDart construction\ninvisible zip application\nsew side seams\niron interfacing onto waistband or facing understanding CB\, CF and side seams\noverlocking of seams\, facings and hem edge\nstay stitching\nattaching of waistband or facing\nditch stitching of waistband or\nunderstitching of facing\nLearning how level a hem from ground with a ruler\nFrench Hem application\n\nWHAT TO BRING:\n\n5 METRES OF  115cm wide woven fabric  \n\n            OR \n1 METRE OF 150cm wide woven fabric \nSUGGESTED FABRICS: Cottons and Cotton Blends\, Crepe\, Denim\, Stretch wovens\, Synthetic\, Lightweight wools and Wool Blends \n\nMatching good quality thread\n20cm invisible zip.\n\nPlease contact Loretta for enrolment on info@lorettasinstitches.com.au\nMobile: 0422837256 Landline: 5447 2823\nA $50 deposit is required to secure your place in the course.
URL:https://lorettasinstitches.com.au/event/line-skirt-construction/
LOCATION:Loretta’s in Stitches\, 8 Ventura St\, Sunrise Beach\, QLD\, 4567\, Australia
CATEGORIES:courses
ATTACH;FMTTYPE=image/jpeg:https://lorettasinstitches.com.au/wp-content/uploads/inv_zip.jpg
ORGANIZER;CN="Loretta in Stitches":MAILTO:info@lorettasinstitches.com.au
END:VEVENT
END:VCALENDAR