BEGIN:VCALENDAR
VERSION:2.0
PRODID:-//Loretta&#039;s In Stitches - ECPv6.15.20//NONSGML v1.0//EN
CALSCALE:GREGORIAN
METHOD:PUBLISH
X-WR-CALNAME:Loretta&#039;s In Stitches
X-ORIGINAL-URL:https://lorettasinstitches.com.au
X-WR-CALDESC:Events for Loretta&#039;s In Stitches
REFRESH-INTERVAL;VALUE=DURATION:PT1H
X-Robots-Tag:noindex
X-PUBLISHED-TTL:PT1H
BEGIN:VTIMEZONE
TZID:Australia/Brisbane
BEGIN:STANDARD
TZOFFSETFROM:+1000
TZOFFSETTO:+1000
TZNAME:AEST
DTSTART:20140101T000000
END:STANDARD
END:VTIMEZONE
BEGIN:VEVENT
DTSTART;TZID=Australia/Brisbane:20160924T100000
DTEND;TZID=Australia/Brisbane:20160924T130000
DTSTAMP:20260426T003405
CREATED:20150507T231716Z
LAST-MODIFIED:20161019T234238Z
UID:401-1474711200-1474722000@lorettasinstitches.com.au
SUMMARY:Understanding all elements of commercial patterns September 24th
DESCRIPTION:See Full Class Description here. \nIn this class you will learn how to navigate the pattern catalogues to find that outfit you have in mind instead of trudging from shop to shop trying on endless outfits which may not be the fabric or fit you would like but best you can find available. From the catalogue where you have found exactly the pattern you like\, you can choose your own fabric as suggested in the pattern resulting in an original garment made to your own fit. \nThe three important elements of a pattern are : \n\nThe pattern envelope\,\nThe Instruction sheet\nThe tissue pattern pieces\n\nEach of the 3 elements have very important information which will be fully explained in a systemic and easy to understand fashion to build your knowledge and confidence.\nStudents are supplied with explanation handouts and during the class will have different exercises on laying up of fabric with straight grain\, lengthening and shortening of the pattern and the terminology of the funny sewing language of a pattern. \nAfter completing the Understanding Commercial Pattern Class you will have the skills and knowledge from the very first step of purchasing a pattern to selecting suitable fabrics for the pattern\, laying up\, cutting and construction resulting in an original completed garment.
URL:https://lorettasinstitches.com.au/event/understanding-all-elements-of-commercial-patterns-sep-24/
LOCATION:Loretta’s in Stitches\, 8 Ventura St\, Sunrise Beach\, QLD\, 4567\, Australia
CATEGORIES:workshops
ATTACH;FMTTYPE=image/jpeg:https://lorettasinstitches.com.au/wp-content/uploads/Sewing_patterns.jpg
ORGANIZER;CN="Loretta in Stitches":MAILTO:info@lorettasinstitches.com.au
END:VEVENT
BEGIN:VEVENT
DTSTART;TZID=Australia/Brisbane:20160205T083000
DTEND;TZID=Australia/Brisbane:20160205T153000
DTSTAMP:20260426T003405
CREATED:20150628T234534Z
LAST-MODIFIED:20160127T025527Z
UID:424-1454661000-1454686200@lorettasinstitches.com.au
SUMMARY:Piped & zippered cushion cover
DESCRIPTION:One day workshop.
URL:https://lorettasinstitches.com.au/event/zipperedpiped-cushion-cover/
LOCATION:Loretta’s in Stitches\, 8 Ventura St\, Sunrise Beach\, QLD\, 4567\, Australia
CATEGORIES:courses
ATTACH;FMTTYPE=image/jpeg:https://lorettasinstitches.com.au/wp-content/uploads/students-with-cushion650.jpg
ORGANIZER;CN="Loretta in Stitches":MAILTO:info@lorettasinstitches.com.au
END:VEVENT
BEGIN:VEVENT
DTSTART;TZID=Australia/Brisbane:20150724T100000
DTEND;TZID=Australia/Brisbane:20150724T130000
DTSTAMP:20260426T003405
CREATED:20150712T231200Z
LAST-MODIFIED:20150712T231323Z
UID:441-1437732000-1437742800@lorettasinstitches.com.au
SUMMARY:Bias binding and facings
DESCRIPTION:
URL:https://lorettasinstitches.com.au/event/bias-binding-and-facings/
LOCATION:Loretta’s in Stitches\, 8 Ventura St\, Sunrise Beach\, QLD\, 4567\, Australia
CATEGORIES:workshops
ORGANIZER;CN="Loretta in Stitches":MAILTO:info@lorettasinstitches.com.au
END:VEVENT
BEGIN:VEVENT
DTSTART;TZID=Australia/Brisbane:20150719T100000
DTEND;TZID=Australia/Brisbane:20150719T120000
DTSTAMP:20260426T003405
CREATED:20150629T002259Z
LAST-MODIFIED:20161019T234238Z
UID:433-1437300000-1437307200@lorettasinstitches.com.au
SUMMARY:The Sewing Lounge
DESCRIPTION:6 x 2hr sessions for Sunshine Coast Community College \nMore details: http://sunshinecoastcommunitycollege.com.au/course/SewLounge  \nYou know how to sew but want to take on more challenging projects? Got a UFO (unfinished off) item hanging around? Would you like to be apart of a sewing community who share your passion\, with your own qualified sewing master on-board to offer assistance when you hit the hurdles? Welcome to The Sewing Lounge\, where practice makes perfect! \nThe Sewing Lounge is the perfect weekly catch-up for sewers of all ages who want to progress with their own projects\, share hints and tips and advance their basic skills with the support of a lovely community of local sewers. With expert assistance on hand to help develop your sewing skills and knowledge\, the sewing lounge offers you a chance to share in the positive and rewarding experience of creative achievement as you support each other to reach your goals.
URL:https://lorettasinstitches.com.au/event/the-sewing-lounge/
LOCATION:Noosa Leisure Centre\, 9 Wallace Drive \, Noosaville \, 4566
CATEGORIES:courses
ATTACH;FMTTYPE=image/jpeg:https://lorettasinstitches.com.au/wp-content/uploads/sewing-class-2011.jpg
END:VEVENT
BEGIN:VEVENT
DTSTART;TZID=Australia/Brisbane:20150718T090000
DTEND;TZID=Australia/Brisbane:20150718T110000
DTSTAMP:20260426T003405
CREATED:20150629T000502Z
LAST-MODIFIED:20161019T234238Z
UID:428-1437210000-1437217200@lorettasinstitches.com.au
SUMMARY:Sewing for Beginners - Sew it yourself
DESCRIPTION:6 x 2 hour classes @ Sunshine Coast Community College \n\nSee more details at http://sunshinecoastcommunitycollege.com.au/course/SewBeg \nSo you have a sewing machine – but it’s gathering dust. Are you thinking it’s about time you learned to use it so you can ‘sew it yourself’? Well\, you’ve come to the right place! Unlock your creativity as you explore the power of this magical machine. Imagine having the skill to create your own favorite item of clothing. In this course\, you will discover the techniques that make the experts\, well\, expert. \nLearn essential measurements and construction techniques so you’ll get it right the first time and avoid those half-finished beauties\, or the ‘could have been something special’ disasters. \nOur expert tutor will be on hand to guide you through the construction and design process so that by the end of the course you will not only know how to use your sewing machine\, you’ll be cranking that baby up to fever pitch to create your very own masterpieces. \nThis course is ideal for an absolute beginner. Just bring yourself and your sewing machine (and if you don’t a machine\, let us know as there are a few to be used in class on a first-in\, first- served basis). But we warned… sewing is addictive so your wardrobe beware!
URL:https://lorettasinstitches.com.au/event/sewing-for-beginners-sew-it-yourself/
LOCATION:Lake Kawana Community Centre\, 114 Sportsmans Parade\,  Bokarina\, QLD\,  4575\, Australia
CATEGORIES:courses
ATTACH;FMTTYPE=image/jpeg:https://lorettasinstitches.com.au/wp-content/uploads/spools.jpg
END:VEVENT
BEGIN:VEVENT
DTSTART;TZID=Australia/Brisbane:20150717T100000
DTEND;TZID=Australia/Brisbane:20150717T130000
DTSTAMP:20260426T003405
CREATED:20150505T002207Z
LAST-MODIFIED:20150712T230824Z
UID:386-1437127200-1437138000@lorettasinstitches.com.au
SUMMARY:Machine and Hand Sewn Hems Workshop
DESCRIPTION:description here…
URL:https://lorettasinstitches.com.au/event/machine-hand-sewn-hems-workshop/
LOCATION:Loretta’s in Stitches\, 8 Ventura St\, Sunrise Beach\, QLD\, 4567\, Australia
CATEGORIES:workshops
ATTACH;FMTTYPE=image/jpeg:https://lorettasinstitches.com.au/wp-content/uploads/hems_workshop_feat_image.jpg
ORGANIZER;CN="Loretta in Stitches":MAILTO:info@lorettasinstitches.com.au
END:VEVENT
BEGIN:VEVENT
DTSTART;TZID=Australia/Brisbane:20150711T100000
DTEND;TZID=Australia/Brisbane:20150711T130000
DTSTAMP:20260426T003405
CREATED:20150628T234217Z
LAST-MODIFIED:20160425T035609Z
UID:423-1436608800-1436619600@lorettasinstitches.com.au
SUMMARY:Centred zip application and machined buttonhole application
DESCRIPTION:
URL:https://lorettasinstitches.com.au/event/centred-zip-application-and-machined-buttonhole-application/
LOCATION:Loretta’s in Stitches\, 8 Ventura St\, Sunrise Beach\, QLD\, 4567\, Australia
CATEGORIES:workshops
ATTACH;FMTTYPE=image/jpeg:https://lorettasinstitches.com.au/wp-content/uploads/Centred-zip.jpg
ORGANIZER;CN="Loretta in Stitches":MAILTO:info@lorettasinstitches.com.au
END:VEVENT
BEGIN:VEVENT
DTSTART;TZID=Australia/Brisbane:20150704T100000
DTEND;TZID=Australia/Brisbane:20150704T130000
DTSTAMP:20260426T003405
CREATED:20150628T235158Z
LAST-MODIFIED:20150628T235158Z
UID:425-1436004000-1436014800@lorettasinstitches.com.au
SUMMARY:Invisible zip/faced application
DESCRIPTION:
URL:https://lorettasinstitches.com.au/event/invisible-zip-faced-application/
LOCATION:Loretta’s in Stitches\, 8 Ventura St\, Sunrise Beach\, QLD\, 4567\, Australia
CATEGORIES:workshops
ATTACH;FMTTYPE=image/jpeg:https://lorettasinstitches.com.au/wp-content/uploads/Invisible-zip.jpg
ORGANIZER;CN="Loretta in Stitches":MAILTO:info@lorettasinstitches.com.au
END:VEVENT
BEGIN:VEVENT
DTSTART;TZID=Australia/Brisbane:20150619T100000
DTEND;TZID=Australia/Brisbane:20150619T130000
DTSTAMP:20260426T003405
CREATED:20150505T221022Z
LAST-MODIFIED:20160425T035450Z
UID:393-1434708000-1434718800@lorettasinstitches.com.au
SUMMARY:Finishing necklines & raw edges with Bias Binding & Facings
DESCRIPTION:
URL:https://lorettasinstitches.com.au/event/finishing-necklines-raw-edges-with-bias-binding-facings/
LOCATION:Loretta’s in Stitches\, 8 Ventura St\, Sunrise Beach\, QLD\, 4567\, Australia
CATEGORIES:workshops
ORGANIZER;CN="Loretta in Stitches":MAILTO:info@lorettasinstitches.com.au
END:VEVENT
BEGIN:VEVENT
DTSTART;TZID=Australia/Brisbane:20150605T100000
DTEND;TZID=Australia/Brisbane:20150605T130000
DTSTAMP:20260426T003405
CREATED:20150507T232047Z
LAST-MODIFIED:20150507T232047Z
UID:403-1433498400-1433509200@lorettasinstitches.com.au
SUMMARY:Basic Centred Zip application
DESCRIPTION:
URL:https://lorettasinstitches.com.au/event/basic-centred-zip-application/
LOCATION:Loretta’s in Stitches\, 8 Ventura St\, Sunrise Beach\, QLD\, 4567\, Australia
CATEGORIES:workshops
ATTACH;FMTTYPE=image/jpeg:https://lorettasinstitches.com.au/wp-content/uploads/Centred-zip.jpg
ORGANIZER;CN="Loretta in Stitches":MAILTO:info@lorettasinstitches.com.au
END:VEVENT
BEGIN:VEVENT
DTSTART;TZID=Australia/Brisbane:20150516T100000
DTEND;TZID=Australia/Brisbane:20150516T130000
DTSTAMP:20260426T003405
CREATED:20150628T235353Z
LAST-MODIFIED:20160425T035423Z
UID:427-1431770400-1431781200@lorettasinstitches.com.au
SUMMARY:Hemming Class
DESCRIPTION:
URL:https://lorettasinstitches.com.au/event/hemming-class/
LOCATION:Loretta’s in Stitches\, 8 Ventura St\, Sunrise Beach\, QLD\, 4567\, Australia
CATEGORIES:workshops
ORGANIZER;CN="Loretta in Stitches":MAILTO:info@lorettasinstitches.com.au
END:VEVENT
BEGIN:VEVENT
DTSTART;TZID=Australia/Brisbane:20150510T100000
DTEND;TZID=Australia/Brisbane:20150510T130000
DTSTAMP:20260426T003405
CREATED:20150712T231036Z
LAST-MODIFIED:20160425T035343Z
UID:440-1431252000-1431262800@lorettasinstitches.com.au
SUMMARY:Construct a Lined Tote Bag
DESCRIPTION:
URL:https://lorettasinstitches.com.au/event/construct-a-lined-tote-bag/
LOCATION:Loretta’s in Stitches\, 8 Ventura St\, Sunrise Beach\, QLD\, 4567\, Australia
CATEGORIES:workshops
ORGANIZER;CN="Loretta in Stitches":MAILTO:info@lorettasinstitches.com.au
END:VEVENT
END:VCALENDAR