BEGIN:VCALENDAR
VERSION:2.0
PRODID:-//Loretta&#039;s In Stitches - ECPv6.15.20//NONSGML v1.0//EN
CALSCALE:GREGORIAN
METHOD:PUBLISH
X-WR-CALNAME:Loretta&#039;s In Stitches
X-ORIGINAL-URL:https://lorettasinstitches.com.au
X-WR-CALDESC:Events for Loretta&#039;s In Stitches
REFRESH-INTERVAL;VALUE=DURATION:PT1H
X-Robots-Tag:noindex
X-PUBLISHED-TTL:PT1H
BEGIN:VTIMEZONE
TZID:Australia/Brisbane
BEGIN:STANDARD
TZOFFSETFROM:+1000
TZOFFSETTO:+1000
TZNAME:AEST
DTSTART:20180101T000000
END:STANDARD
END:VTIMEZONE
BEGIN:VEVENT
DTSTART;TZID=Australia/Brisbane:20190909T100000
DTEND;TZID=Australia/Brisbane:20190909T150000
DTSTAMP:20260425T221300
CREATED:20160920T003839Z
LAST-MODIFIED:20190801T050905Z
UID:610-1568023200-1568041200@lorettasinstitches.com.au
SUMMARY:A-Line Skirt Construction - Sep 9th & 10th
DESCRIPTION:See Full Class Description Here \n2 classes: Monday the 9th\, and Tuesday the 10th of September\, from 9.00am to 3.00pm \nIn this series of two classes\, you will learn how to construct an A-Line Skirt. \nFed up of searching from shop to shop for a basic skirt to fit you\, or finding a skirt that fits but the fabric is unsuitable or poor quality? Well this class is for you. \n\nknow how to adjust the pattern to fit you\nlaying up of your fabric and construction of garment following pattern instruction\nAn invisible zip and facing application\nFrench hem\n\nNot only will you have a well fitting skirt\, you will be able to make the skirt using different fabrics with confidence in the future your adjusted pattern you used in class knowing it is the correct fit for you. \nDURATION: 2 CLASSES in A-Line skirt course 9am – 3pm\nCOST: $195 \nThings we will cover:\n\ntaking of body measurements\ncompare measurements to pattern\ntry on sample skirt to measurement taken\ntrace out pattern size\npattern alterations if required for your own personal fit\nmake calico shell to test alterations if required. Pin fitting skirt if required.\nLay up fabric and cutting out of pattern pieces understanding the sewing language (straight grain\, selvedge\, the fold\, notches etc)\nDart construction\ninvisible zip application\nsew side seams\niron interfacing onto waistband or facing understanding CB\, CF and side seams\noverlocking of seams\, facings and hem edge\nstay stitching\nattaching of waistband or facing\nditch stitching of waistband or\nunderstitching of facing\nLearning how level a hem from ground with a ruler\nFrench Hem application\n\nWHAT TO BRING:\n\n5 METRES OF  115cm wide woven fabric  \n\n            OR \n1 METRE OF 150cm wide woven fabric \nSUGGESTED FABRICS: Cottons and Cotton Blends\, Crepe\, Denim\, Stretch wovens\, Synthetic\, Lightweight wools and Wool Blends \n\nMatching good quality thread\n20cm invisible zip.\n\nPlease contact Loretta for enrolment on info@lorettasinstitches.com.au\nMobile: 0422837256 Landline: 5447 2823\nA $50 deposit is required to secure your place in the course.
URL:https://lorettasinstitches.com.au/event/line-skirt-construction/
LOCATION:Loretta’s in Stitches\, 8 Ventura St\, Sunrise Beach\, QLD\, 4567\, Australia
CATEGORIES:courses
ATTACH;FMTTYPE=image/jpeg:https://lorettasinstitches.com.au/wp-content/uploads/inv_zip.jpg
ORGANIZER;CN="Loretta in Stitches":MAILTO:info@lorettasinstitches.com.au
END:VEVENT
BEGIN:VEVENT
DTSTART;TZID=Australia/Brisbane:20200728T170000
DTEND;TZID=Australia/Brisbane:20200728T193000
DTSTAMP:20260425T221300
CREATED:20170806T231536Z
LAST-MODIFIED:20200612T063119Z
UID:718-1595955600-1595964600@lorettasinstitches.com.au
SUMMARY:Overlocker Course Sunshine Coast - July 28th
DESCRIPTION:Overlocker Course Sunshine Coast\nSee Full Class Description here. \n4 x 2.5hr Classes on TUESDAY EVENINGS commencing on the 28th June at 5.00 pm – 7.30 pm. \nYou are so excited as you take out the much-awaited overlocker from the box – now what? \nWith this Overlocker Course\, you will become confident in the use of your overlocker with how to correctly thread and operate it. You will also learn and understand the different features and attachments of the machine. \nFor full details please see the Overlocker Course page\, and to book\, please call Loretta on 0422 837 256
URL:https://lorettasinstitches.com.au/event/overlocker-course-2/
LOCATION:Loretta’s in Stitches\, 8 Ventura St\, Sunrise Beach\, QLD\, 4567\, Australia
CATEGORIES:courses
ATTACH;FMTTYPE=image/jpeg:https://lorettasinstitches.com.au/wp-content/uploads/Overlocker_Veronika_cropped.jpg
ORGANIZER;CN="Loretta in Stitches":MAILTO:info@lorettasinstitches.com.au
END:VEVENT
BEGIN:VEVENT
DTSTART;TZID=Australia/Brisbane:20200731T093000
DTEND;TZID=Australia/Brisbane:20200731T120000
DTSTAMP:20260425T221300
CREATED:20170806T231851Z
LAST-MODIFIED:20200611T095253Z
UID:720-1596187800-1596196800@lorettasinstitches.com.au
SUMMARY:Overlocker Course  Sunshine Coast - July 31st
DESCRIPTION:Overlocker Course Sunshine Coast\nSee Full Class Description here. \n4 x 2.5 hr Classes on FRIDAY MORNINGS commencing on the 31st of July from 9:30 am to 12.00pm. \nYou are so excited as you take out the much-awaited overlocker from the box – now what? \nWith this Overlocker Course\, you will become confident in the use of your overlocker with how to correctly thread and operate it. You will also learn and understand the different features and attachments of the machine. \nFor full details please see the Overlocker Course page\, and to book\, please call Loretta on 0422 837 256
URL:https://lorettasinstitches.com.au/event/overlocker-course/
LOCATION:Loretta’s in Stitches\, 8 Ventura St\, Sunrise Beach\, QLD\, 4567\, Australia
CATEGORIES:courses
ATTACH;FMTTYPE=image/jpeg:https://lorettasinstitches.com.au/wp-content/uploads/Overlocker_Veronika_cropped.jpg
ORGANIZER;CN="Loretta in Stitches":MAILTO:info@lorettasinstitches.com.au
END:VEVENT
BEGIN:VEVENT
DTSTART;TZID=Australia/Brisbane:20210104T090000
DTEND;TZID=Australia/Brisbane:20210104T140000
DTSTAMP:20260425T221300
CREATED:20181204T025057Z
LAST-MODIFIED:20201229T021219Z
UID:849-1609750800-1609768800@lorettasinstitches.com.au
SUMMARY:School Holiday One-Day Sewing Workshops
DESCRIPTION:SCHOOL HOLIDAY ONE-DAY SEWING WORKSHOPS – BOOKED OUT! See other dates!\nCost of workshop: $70 \nTime: 10:00AM – 3:00PM \nPick from the following dates: \n\nMonday 4th January – Students will learn how to thread and operate a sewing machine and sew a Messenger bag.\nWednesday 6th January – Students will learn how to thread and operate a sewing machine and sew a Cushion cover.\n\nHave fun learning how to operate a sewing machine and sew some awesome themed items with your new sewing skills. All fabrics and haby (thread\, pins\, scissors etc) are included for use in class. Sewing\nmachines are available if you do not have a machine. \nTo register interest please contact Loretta at info@lorettasinstitches.com.au \nPh:  5447 2823 Mob: 0422837256\nwww.lorettasinstitches.com.au    BLUE CARD : 85542/6 \n   \n \n 
URL:https://lorettasinstitches.com.au/event/school-holiday-one-day-sewing-workshops/
LOCATION:Loretta’s in Stitches\, 8 Ventura St\, Sunrise Beach\, QLD\, 4567\, Australia
CATEGORIES:courses
ATTACH;FMTTYPE=image/jpeg:https://lorettasinstitches.com.au/wp-content/uploads/20201001_130817.jpg
ORGANIZER;CN="Loretta in Stitches":MAILTO:info@lorettasinstitches.com.au
END:VEVENT
BEGIN:VEVENT
DTSTART;TZID=Australia/Brisbane:20210108T090000
DTEND;TZID=Australia/Brisbane:20210108T140000
DTSTAMP:20260425T221300
CREATED:20180702T004840Z
LAST-MODIFIED:20201229T021039Z
UID:814-1610096400-1610114400@lorettasinstitches.com.au
SUMMARY:School Holiday Children Sewing Course in January
DESCRIPTION:SCHOOL HOLIDAY ONE-DAY SEWING WORKSHOPS\nCost of workshop: $70 \nTime: 10:00AM – 3:00PM \nPick from the following dates: \n\nFriday 8th January – Students will learn how to thread and operate a sewing machine and sew a Cat Cushion.\nWednesday 13th January – Students will learn how to thread and operate a sewing machine and sew a Messenger bag.\n\nHave fun learning how to operate a sewing machine and sew some awesome themed items with your new sewing skills. All fabrics and haby (thread\, pins\, scissors etc) are included for use in class. Sewing\nmachines are available if you do not have a machine. \nTo register interest please contact Loretta at info@lorettasinstitches.com.au \nPh:  5447 2823 Mob: 0422837256\nwww.lorettasinstitches.com.au    BLUE CARD : 85542/6 \n   \n \n 
URL:https://lorettasinstitches.com.au/event/school-holiday-sewing-course-2/
LOCATION:Loretta’s in Stitches\, 8 Ventura St\, Sunrise Beach\, QLD\, 4567\, Australia
CATEGORIES:courses
ATTACH;FMTTYPE=image/jpeg:https://lorettasinstitches.com.au/wp-content/uploads/20201001_130817.jpg
ORGANIZER;CN="Loretta in Stitches":MAILTO:info@lorettasinstitches.com.au
END:VEVENT
BEGIN:VEVENT
DTSTART;TZID=Australia/Brisbane:20250509T170000
DTEND;TZID=Australia/Brisbane:20250509T210000
DTSTAMP:20260425T221300
CREATED:20160502T085914Z
LAST-MODIFIED:20250410T013510Z
UID:576-1746810000-1746824400@lorettasinstitches.com.au
SUMMARY:Friday Evening Basic Sewing Course Sunshine Coast
DESCRIPTION:Basic Sewing Course Sunshine Coast\nSee Full Class Description here. \n8 x FRIDAY EVENINGS commencing on the 9th of May\, from 5-9pm. \nNOTE: This course now consists of 8 x 4 hour classes! \nAbsolute beginners or rusty sewers will have a BALL (Lucille Ball!!) building your sewing skills and knowledge with the best Basic Sewing Course on the Sunshine Coast. \nThis revised course now consists of 8 x 4 hour classes\, which will take you step by step through how to operate your sewing machine\, learning different sewing techniques and understanding commercial patterns with all the interesting sewing language! You can use one of our supplied sewing machines if you do not owe a machine. \nFor full details please see the Sewing #101 – Basic Sewing Course Sunshine Coast page\, and to book\, please call Loretta on 0422 837 256
URL:https://lorettasinstitches.com.au/event/basic-sewing-course-sunshine-coast-1/
LOCATION:Loretta’s in Stitches\, 8 Ventura St\, Sunrise Beach\, QLD\, 4567\, Australia
CATEGORIES:courses
ATTACH;FMTTYPE=image/jpeg:https://lorettasinstitches.com.au/wp-content/uploads/lucille_ball900.jpg
ORGANIZER;CN="Loretta in Stitches":MAILTO:info@lorettasinstitches.com.au
END:VEVENT
BEGIN:VEVENT
DTSTART;TZID=Australia/Brisbane:20260209T100000
DTEND;TZID=Australia/Brisbane:20260209T140000
DTSTAMP:20260425T221300
CREATED:20170608T045757Z
LAST-MODIFIED:20260130T064109Z
UID:699-1770631200-1770645600@lorettasinstitches.com.au
SUMMARY:Monday Mornings Basic Sewing Course Sunshine Coast
DESCRIPTION:Basic Sewing Course Sunshine Coast\nSee Full Class Description here. \n8 x MONDAY MORNINGS commencing on the 9th of February\, from 10am to 2pm. \nNOTE: This course consists of 8 x 4 hour classes! \nAbsolute beginners or rusty sewers will have a BALL (Lucille Ball!!) building your sewing skills and knowledge with the best Basic Sewing Course on the Sunshine Coast. \nThis revised course now consists of 8 x 4 hour classes\, which will take you step by step through how to operate your sewing machine\, learning different sewing techniques and understanding commercial patterns with all the interesting sewing language! You can use one of our supplied sewing machines if you do not owe a machine. \nFor full details please see the Sewing #101 – Basic Sewing Course Sunshine Coast page\, and to book\, please call Loretta on 0422 837 256
URL:https://lorettasinstitches.com.au/event/basic-sewing-course-sunshine-coast-2/
LOCATION:Loretta’s in Stitches\, 8 Ventura St\, Sunrise Beach\, QLD\, 4567\, Australia
CATEGORIES:courses
ATTACH;FMTTYPE=image/jpeg:https://lorettasinstitches.com.au/wp-content/uploads/lucille_ball.jpg
ORGANIZER;CN="Loretta in Stitches":MAILTO:info@lorettasinstitches.com.au
END:VEVENT
BEGIN:VEVENT
DTSTART;TZID=Australia/Brisbane:20260210T170000
DTEND;TZID=Australia/Brisbane:20260210T210000
DTSTAMP:20260425T221300
CREATED:20160422T051114Z
LAST-MODIFIED:20251207T212409Z
UID:568-1770742800-1770757200@lorettasinstitches.com.au
SUMMARY:Tuesday Evenings Basic Sewing Course Sunshine Coast
DESCRIPTION:Basic Sewing Course Sunshine Coast\nSee Full Class Description here. \n8 x TUESDAY EVENINGS commencing on the 10th of February\, from 5:00pm to 9:00pm \nNOTE: This course now consists of 8 x 4 hour classes! \nAbsolute beginners or rusty sewers will have a BALL (Lucille Ball!!) building your sewing skills and knowledge with the best Basic Sewing Course on the Sunshine Coast. \nThis revised course now consists of 8 x 4 hour classes\, which will take you step by step through how to operate your sewing machine\, learning different sewing techniques and understanding commercial patterns with all the interesting sewing language! You can use one of our supplied sewing machines if you do not owe a machine. \nFor full details please see the Sewing #101 – Basic Sewing Course Sunshine Coast page\, and to book\, please call Loretta on 0422 837 256
URL:https://lorettasinstitches.com.au/event/basic-sewing-course-sunshine-coast-4/
LOCATION:Loretta’s in Stitches\, 8 Ventura St\, Sunrise Beach\, QLD\, 4567\, Australia
CATEGORIES:courses
ATTACH;FMTTYPE=image/jpeg:https://lorettasinstitches.com.au/wp-content/uploads/lucille_ball900.jpg
ORGANIZER;CN="Loretta in Stitches":MAILTO:info@lorettasinstitches.com.au
END:VEVENT
BEGIN:VEVENT
DTSTART;TZID=Australia/Brisbane:20260228T100000
DTEND;TZID=Australia/Brisbane:20260228T140000
DTSTAMP:20260425T221300
CREATED:20160127T030011Z
LAST-MODIFIED:20251207T212225Z
UID:525-1772272800-1772287200@lorettasinstitches.com.au
SUMMARY:Saturday Morning Basic Sewing Course Sunshine Coast
DESCRIPTION:Basic Sewing Course Sunshine Coast\nSee Full Class Description here. \n8 x SATURDAY MORNINGS commencing on the 28th of February\, from 10am to 2pm. \nNOTE: This course now consists of 8 x 4 hour classes! \nAbsolute beginners or rusty sewers will have a BALL (Lucille Ball!!) building your sewing skills and knowledge with the best Basic Sewing Course on the Sunshine Coast. \nThis revised course now consists of 8 x 4 hour classes\, which will take you step by step through how to operate your sewing machine\, learning different sewing techniques and understanding commercial patterns with all the interesting sewing language! You can use one of our supplied sewing machines if you do not owe a machine. \nFor full details please see the Sewing #101 – Basic Sewing Course Sunshine Coast page\, and to book\, please call Loretta on 0422 837 256
URL:https://lorettasinstitches.com.au/event/basic-sewing-course-sunshine-coast/
LOCATION:Loretta’s in Stitches\, 8 Ventura St\, Sunrise Beach\, QLD\, 4567\, Australia
CATEGORIES:courses
ATTACH;FMTTYPE=image/jpeg:https://lorettasinstitches.com.au/wp-content/uploads/lucille_ball900.jpg
ORGANIZER;CN="Loretta in Stitches":MAILTO:info@lorettasinstitches.com.au
END:VEVENT
END:VCALENDAR