BEGIN:VCALENDAR
VERSION:2.0
PRODID:-//Loretta&#039;s In Stitches - ECPv6.15.20//NONSGML v1.0//EN
CALSCALE:GREGORIAN
METHOD:PUBLISH
X-WR-CALNAME:Loretta&#039;s In Stitches
X-ORIGINAL-URL:https://lorettasinstitches.com.au
X-WR-CALDESC:Events for Loretta&#039;s In Stitches
REFRESH-INTERVAL;VALUE=DURATION:PT1H
X-Robots-Tag:noindex
X-PUBLISHED-TTL:PT1H
BEGIN:VTIMEZONE
TZID:Australia/Brisbane
BEGIN:STANDARD
TZOFFSETFROM:+1000
TZOFFSETTO:+1000
TZNAME:AEST
DTSTART:20180101T000000
END:STANDARD
END:VTIMEZONE
BEGIN:VEVENT
DTSTART;TZID=Australia/Brisbane:20190619T093000
DTEND;TZID=Australia/Brisbane:20190619T150000
DTSTAMP:20260425T232026
CREATED:20190606T033054Z
LAST-MODIFIED:20190617T020934Z
UID:950-1560936600-1560956400@lorettasinstitches.com.au
SUMMARY:PJ Pants One Day Workshop - June 19th
DESCRIPTION:Pyjama Pants One Day Workshop\nA pair of comfy PJ pants with elastic waist/drawstring is an easy beginners project to  build your sewing skills. \nCOST: $95 \nWHEN: Wednesday 19th JUNE \nDURATION: 9.30am – 3.00pm \n\nCalculate and learn how to adjust pattern pieces to your body measurements.\nLaying up and cutting of Fabric\nTransferring all markings from pattern to fabric with tailor tacks.\nConstruction of pants with some basic sewing terms and skills.\nMachine buttonholes\nElastic waistband\nInsertion of drawstring\nHemming\n\nWHAT TO BRING: \nSUGGESTED FABRICS\nLight soft drape fabric such as…. satin\, cotton voile\, interlock knit. \nFabric Amount:\nPants with no lower contrast band:\n115cm wide & 150 wide……2.20mt \nPants with lower contrast band\n115cm wide & 150cm wide…….2mts\nContrast: 30cm x 115cm or 150cm \nElastic- 60cm of 2cm wide\nRibbon for Casing- 1.5m of 1cm wide\nThread \nBOOKING INFORMATION: \n\nPlease contact Loretta for enrollment on info@lorettasinstitches.com.au\nMobile: 0422837256  Landline:  5447 2823
URL:https://lorettasinstitches.com.au/event/pj-pants-one-day-workshop-june-19th/
LOCATION:Loretta’s in Stitches\, 8 Ventura St\, Sunrise Beach\, QLD\, 4567\, Australia
CATEGORIES:workshops
ATTACH;FMTTYPE=image/jpeg:https://lorettasinstitches.com.au/wp-content/uploads/pyjama_pants_workshop.jpg
ORGANIZER;CN="Loretta in Stitches":MAILTO:info@lorettasinstitches.com.au
END:VEVENT
END:VCALENDAR