BEGIN:VCALENDAR
VERSION:2.0
PRODID:-//Loretta&#039;s In Stitches - ECPv6.15.20//NONSGML v1.0//EN
CALSCALE:GREGORIAN
METHOD:PUBLISH
X-WR-CALNAME:Loretta&#039;s In Stitches
X-ORIGINAL-URL:https://lorettasinstitches.com.au
X-WR-CALDESC:Events for Loretta&#039;s In Stitches
REFRESH-INTERVAL;VALUE=DURATION:PT1H
X-Robots-Tag:noindex
X-PUBLISHED-TTL:PT1H
BEGIN:VTIMEZONE
TZID:Australia/Brisbane
BEGIN:STANDARD
TZOFFSETFROM:+1000
TZOFFSETTO:+1000
TZNAME:AEST
DTSTART:20200101T000000
END:STANDARD
END:VTIMEZONE
BEGIN:VEVENT
DTSTART;TZID=Australia/Brisbane:20210104T090000
DTEND;TZID=Australia/Brisbane:20210104T140000
DTSTAMP:20260423T171204
CREATED:20181204T025057Z
LAST-MODIFIED:20201229T021219Z
UID:849-1609750800-1609768800@lorettasinstitches.com.au
SUMMARY:School Holiday One-Day Sewing Workshops
DESCRIPTION:SCHOOL HOLIDAY ONE-DAY SEWING WORKSHOPS – BOOKED OUT! See other dates!\nCost of workshop: $70 \nTime: 10:00AM – 3:00PM \nPick from the following dates: \n\nMonday 4th January – Students will learn how to thread and operate a sewing machine and sew a Messenger bag.\nWednesday 6th January – Students will learn how to thread and operate a sewing machine and sew a Cushion cover.\n\nHave fun learning how to operate a sewing machine and sew some awesome themed items with your new sewing skills. All fabrics and haby (thread\, pins\, scissors etc) are included for use in class. Sewing\nmachines are available if you do not have a machine. \nTo register interest please contact Loretta at info@lorettasinstitches.com.au \nPh:  5447 2823 Mob: 0422837256\nwww.lorettasinstitches.com.au    BLUE CARD : 85542/6 \n   \n \n 
URL:https://lorettasinstitches.com.au/event/school-holiday-one-day-sewing-workshops/
LOCATION:Loretta’s in Stitches\, 8 Ventura St\, Sunrise Beach\, QLD\, 4567\, Australia
CATEGORIES:courses
ATTACH;FMTTYPE=image/jpeg:https://lorettasinstitches.com.au/wp-content/uploads/20201001_130817.jpg
ORGANIZER;CN="Loretta in Stitches":MAILTO:info@lorettasinstitches.com.au
END:VEVENT
END:VCALENDAR