BEGIN:VCALENDAR
VERSION:2.0
PRODID:-//Loretta&#039;s In Stitches - ECPv6.15.20//NONSGML v1.0//EN
CALSCALE:GREGORIAN
METHOD:PUBLISH
X-WR-CALNAME:Loretta&#039;s In Stitches
X-ORIGINAL-URL:https://lorettasinstitches.com.au
X-WR-CALDESC:Events for Loretta&#039;s In Stitches
REFRESH-INTERVAL;VALUE=DURATION:PT1H
X-Robots-Tag:noindex
X-PUBLISHED-TTL:PT1H
BEGIN:VTIMEZONE
TZID:Australia/Brisbane
BEGIN:STANDARD
TZOFFSETFROM:+1000
TZOFFSETTO:+1000
TZNAME:AEST
DTSTART:20150101T000000
END:STANDARD
END:VTIMEZONE
BEGIN:VEVENT
DTSTART;TZID=Australia/Brisbane:20161003T083000
DTEND;TZID=Australia/Brisbane:20161003T120000
DTSTAMP:20260421T180514
CREATED:20160920T004222Z
LAST-MODIFIED:20161019T234238Z
UID:613-1475483400-1475496000@lorettasinstitches.com.au
SUMMARY:A-Line Skirt Construction - Monday the 3rd of October
DESCRIPTION:See Full Class Description Here \n3 classes\, commencing Monday the 3rd of October\, continuing on the 10th and 17th. \nIn this series of three classes\, you will learn how to construct an A-Line Skirt. \nFed up of searching from shop to shop for a basic skirt to fit you\, or finding a skirt that fits but the fabric is unsuitable or poor quality? Well this class is for you. \n\nknow how to adjust the pattern to fit you\nlaying up of your fabric and construction of garment following pattern instruction\nAn invisible zip and facing application\nFrench hem\n\nNot only will you have a well fitting skirt\, you will be able to make the skirt using different fabrics with confidence in the future your adjusted pattern you used in class knowing it is the correct fit for you. \nDURATION: 3 CLASSES in A-Line skirt course 9.30am – 1pm\nCOST: $195 \nPlease contact Loretta for enrolment on info@lorettasinstitches.com.au\nMobile: 0422837256 Landline: 5447 2823\nA $50 deposit is required to secure your place in the course.
URL:https://lorettasinstitches.com.au/event/line-skirt-construction-monday-3rd-october/
LOCATION:Loretta’s in Stitches\, 8 Ventura St\, Sunrise Beach\, QLD\, 4567\, Australia
CATEGORIES:courses
ATTACH;FMTTYPE=image/jpeg:https://lorettasinstitches.com.au/wp-content/uploads/inv_zip.jpg
ORGANIZER;CN="Loretta in Stitches":MAILTO:info@lorettasinstitches.com.au
END:VEVENT
END:VCALENDAR